BEGIN:VCALENDAR
VERSION:2.0
PRODID:-//hacksw/handcal//NONSGML v1.0//EN
CALSCALE:GREGORIAN
X-WR-TIMEZONE:Europe/Vienna
BEGIN:VEVENT
LOCATION:Seminarraum AE U1 - 7\, Karlsplatz 13
SUMMARY:landuni Info-Jause
DTSTART:20260428T150000
DTEND:20260428T180000
DTSTAMP:20260420T224425
UID:69e6ac499e649
END:VEVENT
END:VCALENDAR