BEGIN:VCALENDAR
VERSION:2.0
PRODID:-//hacksw/handcal//NONSGML v1.0//EN
CALSCALE:GREGORIAN
X-WR-TIMEZONE:Europe/Vienna
BEGIN:VEVENT
LOCATION:Technische Universität Wien Hauptgebäude\, Hof 2\, Stiege 7\, EG Karlsplatz 13 1040 Wien
SUMMARY:Wohngespräche: Walter Angonese
DTSTART:20260421T180000
DTEND:20260421T200000
DTSTAMP:20260421T125951
UID:69e774c795c95
END:VEVENT
END:VCALENDAR