BEGIN:VCALENDAR
VERSION:2.0
PRODID:-//hacksw/handcal//NONSGML v1.0//EN
CALSCALE:GREGORIAN
X-WR-TIMEZONE:Europe/Vienna
BEGIN:VEVENT
LOCATION:Dean´s Office Raumcode: AB0401 https://maps.tuwien.ac.at/?q=AB0401
SUMMARY:Ausstellung: A Journey from Vienna
DTSTART:20260423T170000
DTEND:20260424T000000
DTSTAMP:20260421T125951
UID:69e774c7b572c
END:VEVENT
END:VCALENDAR