BEGIN:VCALENDAR
VERSION:2.0
PRODID:-//hacksw/handcal//NONSGML v1.0//EN
CALSCALE:GREGORIAN
X-WR-TIMEZONE:Europe/Vienna
BEGIN:VEVENT
LOCATION:Upload in der TU owncloud (Info dazu via Aussendung/Mail)
SUMMARY:Ende der Bewerbungsfrist: EXCITE 2026
DTSTART:20260531T000000
DTEND:20260601T000000
DTSTAMP:20260420T003134
UID:69e573e66e093
END:VEVENT
END:VCALENDAR