BEGIN:VCALENDAR
VERSION:2.0
PRODID:-//hacksw/handcal//NONSGML v1.0//EN
CALSCALE:GREGORIAN
X-WR-TIMEZONE:Europe/Vienna
BEGIN:VEVENT
LOCATION:EI8 Pötzl HS\, Gußhausstraße 27-29\, 1040 Wien\, EG\, (CD EG 08)
SUMMARY:Whose Building Science? Last Lecture with Claiming*Spaces Collective
DTSTART:20250113T160000
DTEND:20250114T000000
DTSTAMP:20260425T173837
UID:69ecfc1d8210a
END:VEVENT
END:VCALENDAR