BEGIN:VCALENDAR
VERSION:2.0
PRODID:-//hacksw/handcal//NONSGML v1.0//EN
CALSCALE:GREGORIAN
X-WR-TIMEZONE:Europe/Vienna
BEGIN:VEVENT
SUMMARY:AS FOUND: CONTEMPORARY ARCHITECTURE FROM FLANDERS
DTSTART:20240311T180000
DTEND:20240312T000000
DTSTAMP:20260421T124349
UID:69e771057f799
END:VEVENT
END:VCALENDAR