BEGIN:VCALENDAR
VERSION:2.0
PRODID:-//hacksw/handcal//NONSGML v1.0//EN
CALSCALE:GREGORIAN
X-WR-TIMEZONE:Europe/Vienna
BEGIN:VEVENT
LOCATION:TU Wien\, Rovinj
SUMMARY:Sommerworkshop [Übergänge] 2023
DTSTART:20230922T000000
DTEND:20230930T000000
DTSTAMP:20260419T171539
UID:69e50dbbc927c
END:VEVENT
END:VCALENDAR