BEGIN:VCALENDAR
VERSION:2.0
PRODID:-//hacksw/handcal//NONSGML v1.0//EN
CALSCALE:GREGORIAN
X-WR-TIMEZONE:Europe/Vienna
BEGIN:VEVENT
LOCATION:Wien >> Hinterstoder >> Liezen >> Pürgg >> Wien
SUMMARY:1. Exkursion - Center Ländlicher Raum
DTSTART:20211020T000000
DTEND:20211022T000000
DTSTAMP:20260423T035113
UID:69e997316c2a9
END:VEVENT
END:VCALENDAR