BEGIN:VCALENDAR
VERSION:2.0
PRODID:-//hacksw/handcal//NONSGML v1.0//EN
CALSCALE:GREGORIAN
X-WR-TIMEZONE:Europe/Vienna
BEGIN:VEVENT
LOCATION:10.06. 14:15 // 17.06. 13:00 Online: Zoom (https://tuwien.zoom.us/j/95367972842)
SUMMARY:Einladung zu Space Anatomy Lunchtalks 2021
DTSTART:20210610T000000
DTEND:20210618T000000
DTSTAMP:20260423T183837
UID:69ea672dd5762
END:VEVENT
END:VCALENDAR