BEGIN:VCALENDAR
VERSION:2.0
PRODID:-//hacksw/handcal//NONSGML v1.0//EN
CALSCALE:GREGORIAN
X-WR-TIMEZONE:Europe/Vienna
BEGIN:VEVENT
LOCATION:Online: Zoom (https://tuwien.zoom.us/j/95367972842)
SUMMARY:Einladung zu Space Anatomy Lunchtalks 2021
DTSTART:20210527T000000
DTEND:20210618T000000
DTSTAMP:20260421T091709
UID:69e740958c8f5
END:VEVENT
END:VCALENDAR